BEGIN:VCALENDAR
VERSION:2.0
PRODID:-//New Mexico Beaver Project 🦫 - ECPv6.15.20//NONSGML v1.0//EN
CALSCALE:GREGORIAN
METHOD:PUBLISH
X-WR-CALNAME:New Mexico Beaver Project 🦫
X-ORIGINAL-URL:https://nmbeaverproject.org
X-WR-CALDESC:Events for New Mexico Beaver Project 🦫
REFRESH-INTERVAL;VALUE=DURATION:PT1H
X-Robots-Tag:noindex
X-PUBLISHED-TTL:PT1H
BEGIN:VTIMEZONE
TZID:America/Denver
BEGIN:DAYLIGHT
TZOFFSETFROM:-0700
TZOFFSETTO:-0600
TZNAME:MDT
DTSTART:20230312T090000
END:DAYLIGHT
BEGIN:STANDARD
TZOFFSETFROM:-0600
TZOFFSETTO:-0700
TZNAME:MST
DTSTART:20231105T080000
END:STANDARD
BEGIN:DAYLIGHT
TZOFFSETFROM:-0700
TZOFFSETTO:-0600
TZNAME:MDT
DTSTART:20240310T090000
END:DAYLIGHT
BEGIN:STANDARD
TZOFFSETFROM:-0600
TZOFFSETTO:-0700
TZNAME:MST
DTSTART:20241103T080000
END:STANDARD
BEGIN:DAYLIGHT
TZOFFSETFROM:-0700
TZOFFSETTO:-0600
TZNAME:MDT
DTSTART:20250309T090000
END:DAYLIGHT
BEGIN:STANDARD
TZOFFSETFROM:-0600
TZOFFSETTO:-0700
TZNAME:MST
DTSTART:20251102T080000
END:STANDARD
END:VTIMEZONE
BEGIN:VEVENT
DTSTART;TZID=America/Denver:20240925T173000
DTEND;TZID=America/Denver:20240925T190000
DTSTAMP:20260423T061549
CREATED:20240918T172046Z
LAST-MODIFIED:20240918T172150Z
UID:10000006-1727285400-1727290800@nmbeaverproject.org
SUMMARY:Beavers + Beer Taos Edition – Wednesday\, September 25th\, 5:30 - 7:00 PM
DESCRIPTION:We are having our third installment of Beavers + Beer in Taos next week\, September 25th (invite attached) and we’d love if you could join us! You’ll park your car at Fred Baca Park and take a very quick stroll to the Taos Land Trust (there will be someone there to show you the way) where we’ll have some great speakers talking about how beavers can make New Mexico a more lush\, resilient\, hospitable\, and productive place for people and wildlife. We’ll be then taking a walk to see the Beaver Dam Analogs at the park. And\, of course\, there will be some beverages to enjoy… \nSpeakers include Steven Fry (Amigos Bravos)\, Will Jaremko-Wright (Taos County)\, Chris Smith (New Mexico Beaver Project)\, Erik Schlenker-Goodrich (Western Environmental Law Center)\, and more.
URL:https://nmbeaverproject.org/calendar/beavers-beer-taos-edition-wednesday-september-25th-530-700-pm/
LOCATION:Taos Land Trust & Fred Baca Park 301 Cam Del Medio\, Taos\, NM\, 301 Cam Del Medio\, Taos\, NM\, 87571\, United States
ATTACH;FMTTYPE=image/jpeg:https://nmbeaverproject.org/wp-content/uploads/2024/09/TBAB.jpeg
END:VEVENT
END:VCALENDAR